BEGIN:VCALENDAR
BEGIN:VEVENT
SUMMARY:$50 NYE [nycnoise]
DTSTART:20260101T023000Z
DTEND:20260101T033000Z
UID:5437d17a-9ef2-4dc3-8ccc-5869f5157fa2
CREATED:20260425T183937Z
DESCRIPTION:Augustus Muller (DJ)\, Trax Unit\, FALSEBOI (Shyboi b2b Junior
  M)\, Daniro\, Christian Tokyo
LOCATION:paragon (990 broadway\, brooklyn)
END:VEVENT
END:VCALENDAR
