BEGIN:VCALENDAR
BEGIN:VEVENT
SUMMARY:Pressure: Matrixxman\, Carlos Souffront\, LISAS\, [tossd:] Will Ja
 ck b2b Giovannii\, DJ DEADNAME b2b Sevyn Love [nycnoise]
DTSTART:20260103T023000Z
DTEND:20260103T033000Z
UID:5ee80808-a0c6-4c33-b978-3f84e80b76ad
CREATED:20260425T164934Z
DESCRIPTION:
LOCATION:paragon (990 broadway\, brooklyn)
END:VEVENT
END:VCALENDAR
