BEGIN:VCALENDAR
BEGIN:VEVENT
SUMMARY:ENDLESS DESSENT TOUR RETURN\, DVD RELEASE & VERSUS: Dreamcrusher\,
  Murderpact\, id-SUS\, gupi (dj)\, GUTTR vs LATINACROFT vs NONBINARYJAKEPA
 UL vs “Sweet” [nycnoise]
DTSTART:20251219T000000Z
DTEND:20251219T010000Z
UID:c3510444-6eb1-4750-b0c3-2943f0ccf048
CREATED:20260425T184013Z
DESCRIPTION:insta
LOCATION:trans-pecos (9-15 wyckoff ave\, ridgewood)
END:VEVENT
END:VCALENDAR
