BEGIN:VCALENDAR
BEGIN:VEVENT
SUMMARY:Fringe & Cipher present An evening of Death Industrial / Power Ele
 ctronics / Harsh Noise / Dark Ambient: Chrysalis\, Chris Goudreau\, Swolle
 n Organs\, Parasite Nurse\, Hypertrophy\, Degenerative Synthesis [nycnoise
 ]
DTSTART:20251219T230000Z
DTEND:20251220T000000Z
UID:e488c061-8380-4a08-9d7b-3443e5b02d87
CREATED:20260425T184013Z
DESCRIPTION:"our last gig for the 2025 calendar"
LOCATION:fringe records (656 Woodward Ave\, Ridgewood\, NY 11385)
END:VEVENT
END:VCALENDAR
