BEGIN:VCALENDAR
BEGIN:VEVENT
SUMMARY:Wrens (LP Release\; Ryan Easter\, Lester St. Louis\, Elias Stemese
 der\, Jason Nazary)\, Nappy Nina\, ELUCID\, DJ Dada Strain [nycnoise]
DTSTART:20251220T000000Z
DTEND:20251220T010000Z
UID:78d9f16a-a077-45c9-b31f-d69e29921b97
CREATED:20260425T184105Z
DESCRIPTION:
LOCATION:nublu 151 (151 ave c\, manhattan)
END:VEVENT
END:VCALENDAR
