BEGIN:VCALENDAR
BEGIN:VEVENT
SUMMARY:NY Night Train: Lydia Lunch's Murderous Again (w/ Tim Dahl\, Matt 
 Nelson)\, Art Gray Noizz Quintet\, Genre is death + DJs Jonathan Toubin\, 
 Skeleton Boy\, P.D. Miller\, Cellars [nycnoise]
DTSTART:20251227T010000Z
DTEND:20251227T020000Z
UID:313b5b0b-fd60-490d-870a-6d658b0d9af7
CREATED:20260425T183931Z
DESCRIPTION:7pm doors
LOCATION:tv eye (1647 Weirfield St\, Ridgewood\, NY 11385)
END:VEVENT
END:VCALENDAR
