BEGIN:VCALENDAR
BEGIN:VEVENT
SUMMARY:Harlan Steed\, DJ Chaotic Ugly\, Night Night\, Skin [nycnoise]
DTSTART:20260110T000000Z
DTEND:20260110T010000Z
UID:f7dbc980-adbf-4001-bef2-d4e7084f88f0
CREATED:20260425T164932Z
DESCRIPTION:
LOCATION:tv eye (1647 Weirfield St\, Ridgewood\, NY 11385)
END:VEVENT
END:VCALENDAR
