BEGIN:VCALENDAR
BEGIN:VEVENT
SUMMARY:Electronica Series: Wolff Parkinson White\, Brian Charette [nycnoi
 se]
DTSTART:20260118T010000Z
DTEND:20260118T020000Z
UID:5d751d41-d75f-4def-814a-b0352e78c473
CREATED:20260425T164848Z
DESCRIPTION:"hard-to-listen-to electronic music"
LOCATION:loove annex (238 N 12th St\, Brooklyn\, NY 11211)
END:VEVENT
END:VCALENDAR
