BEGIN:VCALENDAR
BEGIN:VEVENT
SUMMARY:XMAS: Mike Servito All Night [nycnoise]
DTSTART:20251226T030000Z
DTEND:20251226T040000Z
UID:cb30ab45-4401-4dde-b57b-74fd19b845a8
CREATED:20260425T184014Z
DESCRIPTION:
LOCATION:bossa nova civic club (1271 myrtle ave\, brooklyn)
END:VEVENT
END:VCALENDAR
