BEGIN:VCALENDAR
BEGIN:VEVENT
SUMMARY:Griff Spex\, Caleb Smith\, Ilia Rayskin [MMM] [nycnoise]
DTSTART:20260115T000000Z
DTEND:20260115T010000Z
UID:b29165f7-74e6-4cd7-931d-7024a7bd4a2a
CREATED:20260425T164934Z
DESCRIPTION:
LOCATION:bellcave
END:VEVENT
END:VCALENDAR
