BEGIN:VCALENDAR
BEGIN:VEVENT
SUMMARY:SYD\, Dj Nico\, BABEITSPURR [nycnoise]
DTSTART:20251227T030000Z
DTEND:20251227T040000Z
UID:fc171c5a-4911-476a-ac3b-b2e2865c4c9e
CREATED:20260425T184013Z
DESCRIPTION:
LOCATION:bossa nova civic club (1271 myrtle ave\, brooklyn)
END:VEVENT
END:VCALENDAR
