BEGIN:VCALENDAR
BEGIN:VEVENT
SUMMARY:Miss Star\, Luc Vitk & Margot Mae\, Gooses (Luc\, Matt Sellier\, K
 lavya Mashru\, Clementine Lu) [nycnoise]
DTSTART:20251229T000000Z
DTEND:20251229T010000Z
UID:4dada41b-5410-4fd2-bc09-693f94eefd69
CREATED:20260425T183933Z
DESCRIPTION:
LOCATION:cassette (68-38 forest ave bsmt\, ridgewood)
END:VEVENT
END:VCALENDAR
