BEGIN:VCALENDAR
BEGIN:VEVENT
SUMMARY:Invisible Cities (Cassette Release)\, Annihil\, Observation Room\,
  DJ Boiled Angel [nycnoise]
DTSTART:20260105T000000Z
DTEND:20260105T010000Z
UID:6a4b5d7d-a636-4c49-96a2-4e8d89a079c8
CREATED:20260425T164933Z
DESCRIPTION:
LOCATION:trans-pecos (9-15 wyckoff ave\, ridgewood)
END:VEVENT
END:VCALENDAR
