BEGIN:VCALENDAR
BEGIN:VEVENT
SUMMARY:Blind Date\, $5000\, Kiran Arora\, Neuter\, DJ QQ [nycnoise]
DTSTART:20251230T000000Z
DTEND:20251230T010000Z
UID:941591d5-ca9d-4f64-8e5e-f631b7f7f59a
CREATED:20260425T183803Z
DESCRIPTION:link to flyer
LOCATION:living gallery (1094 broadway\, brooklyn)
END:VEVENT
END:VCALENDAR
