BEGIN:VCALENDAR
BEGIN:VEVENT
SUMMARY:Groan Fuchs\, Grout\, Universal Cell Unlock\, Hank Allen [nycnoise
 ]
DTSTART:20260104T200000Z
DTEND:20260104T210000Z
UID:e16207eb-1228-4fd3-8897-d51a9dfd1c4f
CREATED:20260425T164847Z
DESCRIPTION:link's to flyer\, here's insta
LOCATION:living gallery (1094 broadway\, brooklyn)
END:VEVENT
END:VCALENDAR
