BEGIN:VCALENDAR
BEGIN:VEVENT
SUMMARY:American Seraphim\, Corridor (Charlie Looker) [nycnoise]
DTSTART:20260123T230000Z
DTEND:20260124T000000Z
UID:8c1ded9f-1523-4bbf-ba39-2338cadca961
CREATED:20260425T165005Z
DESCRIPTION:AS: Christian Cail &amp\; friends
LOCATION:p.i.t. (property is theft) (411 s. 5th st.\, brooklyn)
END:VEVENT
END:VCALENDAR
