BEGIN:VCALENDAR
BEGIN:VEVENT
SUMMARY:Sara Brodsky\, Beton Tåge\, Cementation Anxiety\, Tie Die\, Went 
 Missing [nycnoise]
DTSTART:20260108T000000Z
DTEND:20260108T010000Z
UID:98cf52fe-3714-49f7-94c0-91e7425d2dc5
CREATED:20260425T164809Z
DESCRIPTION:
LOCATION:selva (1329 Willoughby Ave Suite 121\, Brooklyn\, NY 11237\, Unit
 ed States)
END:VEVENT
END:VCALENDAR
