BEGIN:VCALENDAR
BEGIN:VEVENT
SUMMARY:Bach Week: Selendis Sebastian Alexander Johnson & Nathan Chamberla
 in\, Aaron Pond & Max Glazier\, DelGiudice plays Bach [nycnoise]
DTSTART:20260104T000000Z
DTEND:20260104T010000Z
UID:2b7b38dc-83c6-42b5-84df-1d08ac1c77c8
CREATED:20260425T165004Z
DESCRIPTION:
LOCATION:brothers wash & dry laundromat (5420 nurge ave\, queens)
END:VEVENT
END:VCALENDAR
