BEGIN:VCALENDAR
BEGIN:VEVENT
SUMMARY:Samantha Kochis & Melissa Almaguer\, Hans Young Binter / Selendis 
 Sebastian Alexander Johnson / Josh Mathews\, Diego Hedez / Gían Pérez / 
 Trae Crudup III [nycnoise]
DTSTART:20260117T000000Z
DTEND:20260117T010000Z
UID:fa151443-62db-4a30-b1df-5130c4de467a
CREATED:20260425T164810Z
DESCRIPTION:
LOCATION:brothers wash & dry laundromat (5420 nurge ave\, queens)
END:VEVENT
END:VCALENDAR
