BEGIN:VCALENDAR
BEGIN:VEVENT
SUMMARY:Hand Table (Dylan DelGiudice & Elijah Shiffer)\, Kris Gruda\, Jon 
 Elbaz Quartet [nycnoise]
DTSTART:20260118T000000Z
DTEND:20260118T010000Z
UID:20e5b413-4257-4035-a79e-cf89f0eb0272
CREATED:20260425T164846Z
DESCRIPTION:
LOCATION:brothers wash & dry laundromat (5420 nurge ave\, queens)
END:VEVENT
END:VCALENDAR
