BEGIN:VCALENDAR
BEGIN:VEVENT
SUMMARY:TBA [nycnoise]
DTSTART:20260119T010000Z
DTEND:20260119T020000Z
UID:385a5518-7f18-4433-bf42-8cff67974433
CREATED:20260425T165005Z
DESCRIPTION:lineup asap (submit info)
LOCATION:brothers wash & dry laundromat (5420 nurge ave\, queens)
END:VEVENT
END:VCALENDAR
