BEGIN:VCALENDAR
BEGIN:VEVENT
SUMMARY:Grant Beale / Alina Jacobs / Michael Larocca\, Teté Leguía / Jam
 es Paul Nadien / Nic Rose\, Nick Neuberg\, Gían Pérez [nycnoise]
DTSTART:20260130T000000Z
DTEND:20260130T010000Z
UID:8547279c-74d7-4a6c-b2e2-46d372e58796
CREATED:20260425T164809Z
DESCRIPTION:
LOCATION:brothers wash & dry laundromat (5420 nurge ave\, queens)
END:VEVENT
END:VCALENDAR
