BEGIN:VCALENDAR
BEGIN:VEVENT
SUMMARY:Three Duos: Jordan Guldman & Aaron Yanda\, Caylie Davis & Shogo Ya
 magishi\, David Hodgson & Harry Bartlett [nycnoise]
DTSTART:20260131T000000Z
DTEND:20260131T010000Z
UID:776f0f1d-f34c-45ac-a7d3-1c2b0999f6f1
CREATED:20260425T164811Z
DESCRIPTION:
LOCATION:brothers wash & dry laundromat (5420 nurge ave\, queens)
END:VEVENT
END:VCALENDAR
