BEGIN:VCALENDAR
BEGIN:VEVENT
SUMMARY:Libby Quinn\, O Slow\, Deerest [nycnoise]
DTSTART:20260104T003000Z
DTEND:20260104T013000Z
UID:ae977d99-d507-48cf-8e5d-e372b095e369
CREATED:20260425T165003Z
DESCRIPTION:
LOCATION:cassette (68-38 forest ave bsmt\, ridgewood)
END:VEVENT
END:VCALENDAR
