BEGIN:VCALENDAR
BEGIN:VEVENT
SUMMARY:Owen Moran & Milena Mc Closkey\, Max Ardito [nycnoise]
DTSTART:20260104T000000Z
DTEND:20260104T010000Z
UID:cd642c7f-8f63-4a1e-a035-78b60a95203c
CREATED:20260425T164845Z
DESCRIPTION:"ft. bagpipe\, corrosion\, landscape\, monologue\, &amp\; more
 "
LOCATION:cutelab
END:VEVENT
END:VCALENDAR
