BEGIN:VCALENDAR
BEGIN:VEVENT
SUMMARY:$22 NYE: Positively Records Vinyl Party [nycnoise]
DTSTART:20260101T033000Z
DTEND:20260101T043000Z
UID:9855541e-3461-4f1b-a264-f2b054fc7467
CREATED:20260425T183803Z
DESCRIPTION:
LOCATION:close up jazz (154 Orchard St\, New York\, NY 10002\, United Stat
 es)
END:VEVENT
END:VCALENDAR
