BEGIN:VCALENDAR
BEGIN:VEVENT
SUMMARY:Jacob Sacks [nycnoise]
DTSTART:20260106T003000Z
DTEND:20260106T013000Z
UID:89ab73d2-da73-467b-a81b-65c898d840d0
CREATED:20260425T164846Z
DESCRIPTION:7:30pm tix + 9pm tix\; JS w/ Chet Doxas\, Jacob Garchik\, Eivi
 nd Opsvik\, Dan Weiss
LOCATION:close up jazz (154 Orchard St\, New York\, NY 10002\, United Stat
 es)
END:VEVENT
END:VCALENDAR
