BEGIN:VCALENDAR
BEGIN:VEVENT
SUMMARY:Dion Kerr [nycnoise]
DTSTART:20260113T003000Z
DTEND:20260113T013000Z
UID:fd712023-e0b2-4463-9786-5688f9cbae59
CREATED:20260425T164932Z
DESCRIPTION:7:30pm tix + 9pm tix\; DK w/ Sam Yulsman\, Caroline Davis\, Mi
 guel Russell\, Tim Watson\, Andi Kerr\, Sergio Tabanico
LOCATION:close up jazz (154 Orchard St\, New York\, NY 10002\, United Stat
 es)
END:VEVENT
END:VCALENDAR
