BEGIN:VCALENDAR
BEGIN:VEVENT
SUMMARY:Environs: Ellie Cherry: 'Sonata for a Felled Tree' (performed by S
 unjay Jayaram)\, Kate Mohanty\, JSTRO\, Leftpop\, paper gem (DJ) [nycnoise
 ]
DTSTART:20260117T003000Z
DTEND:20260117T013000Z
UID:adc6930f-bfc7-40e0-9e96-a57f11ae7ba7
CREATED:20260425T164932Z
DESCRIPTION:"live music series embracing texture\, improvisation\, &amp\; 
 the environment"
LOCATION:dada (6047 Myrtle Ave\, Queens\, NY 11385)
END:VEVENT
END:VCALENDAR
