BEGIN:VCALENDAR
BEGIN:VEVENT
SUMMARY:DMG Rare Mon | Performance / Convo / Book Release: Elliott Sharp (
 'Feedback') & Joe Fonda ('My Life in the World of Music') [nycnoise]
DTSTART:20260112T233000Z
DTEND:20260113T003000Z
UID:a77b3096-9870-4a1c-8a25-6a111470a267
CREATED:20260425T164809Z
DESCRIPTION:
LOCATION:downtown music gallery (13 monroe st.\, manhattan)
END:VEVENT
END:VCALENDAR
