BEGIN:VCALENDAR
BEGIN:VEVENT
SUMMARY:Chthonic Streams Presents an Evening of Dark Dungeon Musick: Jenn 
 Taiga\, The Ashen Codex\, Earth-Rim Walker\, Izolat (Derek Rush new projec
 t debut) [nycnoise]
DTSTART:20260104T000000Z
DTEND:20260104T010000Z
UID:fd0a0e90-4c0f-46a5-b4d1-6aef41bb6d29
CREATED:20260425T164845Z
DESCRIPTION:
LOCATION:fringe records (656 Woodward Ave\, Ridgewood\, NY 11385)
END:VEVENT
END:VCALENDAR
