BEGIN:VCALENDAR
BEGIN:VEVENT
SUMMARY:Weavers (Gideon Forbes\, Evan Main\, Mathias Jensen\, Steven Cramm
 er) [nycnoise]
DTSTART:20260116T013000Z
DTEND:20260116T023000Z
UID:15d82657-1a34-4460-974f-f7731d17cce3
CREATED:20260425T164808Z
DESCRIPTION:
LOCATION:ibeam (168 7th st.\, brooklyn)
END:VEVENT
END:VCALENDAR
