BEGIN:VCALENDAR
BEGIN:VEVENT
SUMMARY:Bakantez\, Havadine Stone\, Failing Bodies\, Jack Propane\, Wet Go
 ddess\, DJ Cookie Problems [nycnoise]
DTSTART:20260107T003000Z
DTEND:20260107T013000Z
UID:b3e3a901-fbbf-4a8c-b5a8-167dc494bbf1
CREATED:20260425T164809Z
DESCRIPTION:7:30pm doors\, Charlie Dore-Young presents
LOCATION:hart bar (538 hart st.\, brooklyn)
END:VEVENT
END:VCALENDAR
