BEGIN:VCALENDAR
BEGIN:VEVENT
SUMMARY:Suzuki Methyd Birthday Bash: Neurotika\, Skullfucker\, Lake Lanier
 \, DJ Chopper\, FOCO\, Suzuki Methyd\, DJ Necroface [nycnoise]
DTSTART:20260207T010000Z
DTEND:20260207T020000Z
UID:cd5c9051-a90a-44b2-af7a-b9dd8e10aaf9
CREATED:20260425T144901Z
DESCRIPTION:7:30pm doors
LOCATION:hart bar (538 hart st.\, brooklyn)
END:VEVENT
END:VCALENDAR
