BEGIN:VCALENDAR
BEGIN:VEVENT
SUMMARY:Tristan Perich & Katie Porter: 'The Density of Air' [nycnoise]
DTSTART:20260206T010000Z
DTEND:20260206T020000Z
UID:99175471-efa0-4915-9670-e088fe587110
CREATED:20260425T144852Z
DESCRIPTION:
LOCATION:issue project room (22 boerum place\, brooklyn)
END:VEVENT
END:VCALENDAR
