BEGIN:VCALENDAR
BEGIN:VEVENT
SUMMARY:Raúl de Nieves & Dawn Kasper\, Justin Allen [nycnoise]
DTSTART:20260214T010000Z
DTEND:20260214T020000Z
UID:b286da74-91a5-4910-a721-1f0de0428b81
CREATED:20260425T145021Z
DESCRIPTION:
LOCATION:issue project room (22 boerum place\, brooklyn)
END:VEVENT
END:VCALENDAR
