BEGIN:VCALENDAR
BEGIN:VEVENT
SUMMARY:Webb Crawford: 'Men dreme of thing that never was ne shall' (w/ Se
 an Ali\, Adam O’Farrill\, Jack Langdon) [nycnoise]
DTSTART:20260222T010000Z
DTEND:20260222T020000Z
UID:0c0b6d32-c260-45de-9725-440523d27520
CREATED:20260425T144859Z
DESCRIPTION:
LOCATION:issue project room (22 boerum place\, brooklyn)
END:VEVENT
END:VCALENDAR
