BEGIN:VCALENDAR
BEGIN:VEVENT
SUMMARY:rocío sánchez: 'Entornos' [nycnoise]
DTSTART:20260228T010000Z
DTEND:20260228T020000Z
UID:06b76f13-dc6e-4944-b838-2391854f390e
CREATED:20260425T144859Z
DESCRIPTION:
LOCATION:issue project room (22 boerum place\, brooklyn)
END:VEVENT
END:VCALENDAR
