BEGIN:VCALENDAR
BEGIN:VEVENT
SUMMARY:$39 NYE: Barangay: Oh No Macho\, Jay Dalawa\, Alcantara\, Castillo
 naire [nycnoise]
DTSTART:20260101T030000Z
DTEND:20260101T040000Z
UID:11dcf549-8a3f-49fc-abf7-8e09d8448c2d
CREATED:20260425T183936Z
DESCRIPTION:
LOCATION:mood ring (1260 myrtle ave\, brooklyn)
END:VEVENT
END:VCALENDAR
