BEGIN:VCALENDAR
BEGIN:VEVENT
SUMMARY:Cisne\, Kamaal\, Mamicana\, HD [nycnoise]
DTSTART:20260103T030000Z
DTEND:20260103T040000Z
UID:2c221396-5cd3-4837-ba87-8459653f771a
CREATED:20260425T165141Z
DESCRIPTION:
LOCATION:mood ring (1260 myrtle ave\, brooklyn)
END:VEVENT
END:VCALENDAR
