BEGIN:VCALENDAR
BEGIN:VEVENT
SUMMARY:The Spiral: DJ Julia\, medium. (DJ)\, NYMPHOSTAR\, Spiral Sisters 
 (Soo Intoit b2b Xana 101) [nycnoise]
DTSTART:20260108T030000Z
DTEND:20260108T040000Z
UID:d152d779-53f0-4852-a384-b300f0c0c42d
CREATED:20260425T164848Z
DESCRIPTION:
LOCATION:mood ring (1260 myrtle ave\, brooklyn)
END:VEVENT
END:VCALENDAR
