BEGIN:VCALENDAR
BEGIN:VEVENT
SUMMARY:Hypnosis: DJPT b2b Sevyn Love\, WILHELMINA\, Nishévitha\, sola sy
 stem [nycnoise]
DTSTART:20260124T030000Z
DTEND:20260124T040000Z
UID:821079c5-be02-46ec-81d8-86bcb357d5b7
CREATED:20260425T164808Z
DESCRIPTION:🌀 free before 11pm w/&nbsp\;rsvp
LOCATION:mood ring (1260 myrtle ave\, brooklyn)
END:VEVENT
END:VCALENDAR
