BEGIN:VCALENDAR
BEGIN:VEVENT
SUMMARY:$46 NYE (after 2:30am): Chaotic Ugly b2b Angelic Mix\, umru b2b Mi
 lkfish b2b Tiam b2b Emile Fortunes\, NEW YORK (DJ)\, Fraxiom\, Skuzland (l
 ive)\, DJ Manny\, Anna Pura [nycnoise]
DTSTART:20260101T030000Z
DTEND:20260101T040000Z
UID:3854dae6-37af-4a2b-9e16-428532417520
CREATED:20260425T183831Z
DESCRIPTION:
LOCATION:market hotel (1140 myrtle ave\, brooklyn)
END:VEVENT
END:VCALENDAR
