BEGIN:VCALENDAR
BEGIN:VEVENT
SUMMARY:$0 NYE: Cyb3r Bull\, Soo Intoit\, L4RV4\, Xana 101\, PUNKAL0ID\, T
 RICKROOM [nycnoise]
DTSTART:20260101T000000Z
DTEND:20260101T010000Z
UID:18997146-3dc2-4595-849e-cf72f949cbca
CREATED:20260425T184013Z
DESCRIPTION:
LOCATION:bossa nova civic club (1271 myrtle ave\, brooklyn)
END:VEVENT
END:VCALENDAR
