BEGIN:VCALENDAR
BEGIN:VEVENT
SUMMARY:$0 NYE: The Great Big Red Ball Pre-Party [nycnoise]
DTSTART:20251231T230000Z
DTEND:20260101T000000Z
UID:8639d69b-2ff5-41db-beed-3d4abc8035c9
CREATED:20260425T183937Z
DESCRIPTION:
LOCATION:purgatory (675 central ave\, brooklyn)
END:VEVENT
END:VCALENDAR
