BEGIN:VCALENDAR
BEGIN:VEVENT
SUMMARY:$50+ NYE [nycnoise]
DTSTART:20260101T030000Z
DTEND:20260101T040000Z
UID:07b587cf-9de4-4df8-a4ba-b6c10627e303
CREATED:20260425T183938Z
DESCRIPTION:Elsewhere presents: Sama' Abdulhadi New Year's Eve at 99 Scott
  w/ Lauren Flax &amp\; Saphe (Laylit)
LOCATION:99 scott (99 Scott Ave\, Brooklyn\, NY 11237)
END:VEVENT
END:VCALENDAR
