BEGIN:VCALENDAR
BEGIN:VEVENT
SUMMARY:$29 NYE: umru\, Petal Supply [nycnoise]
DTSTART:20260101T030000Z
DTEND:20260101T040000Z
UID:2a5ea05e-62fc-42cb-af6f-cc3ff935761f
CREATED:20260425T183937Z
DESCRIPTION:
LOCATION:brooklyn brewery (79 N 11th St\, Brooklyn\, NY 11249)
END:VEVENT
END:VCALENDAR
