BEGIN:VCALENDAR
BEGIN:VEVENT
SUMMARY:$10-20 NYE [nycnoise]
DTSTART:20260101T010000Z
DTEND:20260101T020000Z
UID:582f65ba-e67f-48e7-b01c-c650b82f6526
CREATED:20260425T184012Z
DESCRIPTION:
LOCATION:mansions (46-63 metropolitan ave\, ridgewood)
END:VEVENT
END:VCALENDAR
