BEGIN:VCALENDAR
BEGIN:VEVENT
SUMMARY:(cheap i bet) NYE: BIG BAR 35th Bday! [nycnoise]
DTSTART:20251231T230000Z
DTEND:20260101T000000Z
UID:430a8c2c-67ee-4487-a9aa-3585458616e6
CREATED:20260425T183831Z
DESCRIPTION:LIVESTREAM (i think! just saw big bar has twitch lol)
LOCATION:big bar (75 E 7th St\, New York\, NY 10003)
END:VEVENT
END:VCALENDAR
