BEGIN:VCALENDAR
BEGIN:VEVENT
SUMMARY:Zohran Inauguration Party [nycnoise]
DTSTART:20260101T230000Z
DTEND:20260102T000000Z
UID:b4cf1a97-a3b4-4258-a1c1-6fc9d2b3e743
CREATED:20260425T165003Z
DESCRIPTION:
LOCATION:c'mon everybody (325 franklin ave\, brooklyn)
END:VEVENT
END:VCALENDAR
